BEGIN:VCALENDAR
VERSION:2.0
PRODID:-//casakc.org//NONSGML kigkonsult.se iCalcreator 2.30.10//
CALSCALE:GREGORIAN
METHOD:PUBLISH
UID:6ad9eb3e-503a-4069-9ea3-9f174b077ee9
X-WR-CALDESC:
X-WR-RELCALID:8a2afb715864f8565cf9bcfa87c66566
X-WR-TIMEZONE:America/Chicago
BEGIN:VTIMEZONE
TZID:America/Chicago
BEGIN:STANDARD
TZNAME:CST
DTSTART:20291104T020000
TZOFFSETFROM:-0500
TZOFFSETTO:-0600
RDATE:20301103T020000
END:STANDARD
BEGIN:DAYLIGHT
TZNAME:CDT
DTSTART:20290311T020000
TZOFFSETFROM:-0600
TZOFFSETTO:-0500
RDATE:20300310T020000
RDATE:20310309T020000
END:DAYLIGHT
END:VTIMEZONE
BEGIN:VEVENT
UID:a011d1b0-2d90-4a44-a77f-b787b5f9fc0f
DTSTAMP:20260425T014340Z
DESCRIPTION:
DTSTART;TZID=America/Chicago:20291228T120000
DTEND;TZID=America/Chicago:20291228T130000
LOCATION:
SUMMARY:Board Meeting
END:VEVENT
END:VCALENDAR
