BEGIN:VCALENDAR
VERSION:2.0
PRODID:-//casakc.org//NONSGML kigkonsult.se iCalcreator 2.30.10//
CALSCALE:GREGORIAN
METHOD:PUBLISH
UID:3d8329ed-aa6a-42f9-806c-976136cc6ce9
X-WR-CALDESC:
X-WR-RELCALID:794174f4b8a3ed842a14a3aedee22f14
X-WR-TIMEZONE:America/Chicago
BEGIN:VTIMEZONE
TZID:America/Chicago
BEGIN:STANDARD
TZNAME:CST
DTSTART:20291104T020000
TZOFFSETFROM:-0500
TZOFFSETTO:-0600
RDATE:20301103T020000
END:STANDARD
BEGIN:DAYLIGHT
TZNAME:CDT
DTSTART:20290311T020000
TZOFFSETFROM:-0600
TZOFFSETTO:-0500
RDATE:20300310T020000
RDATE:20310309T020000
END:DAYLIGHT
END:VTIMEZONE
BEGIN:VEVENT
UID:102ff57f-4574-4dfa-8b3b-9d355b0800d2
DTSTAMP:20260425T025427Z
DESCRIPTION:
DTSTART;TZID=America/Chicago:20300125T120000
DTEND;TZID=America/Chicago:20300125T130000
LOCATION:
SUMMARY:Board Meeting
END:VEVENT
END:VCALENDAR
