BEGIN:VCALENDAR
VERSION:2.0
PRODID:-//casakc.org//NONSGML kigkonsult.se iCalcreator 2.30.10//
CALSCALE:GREGORIAN
METHOD:PUBLISH
UID:ae70e15c-e892-4af5-a257-ad2065195304
X-WR-CALDESC:
X-WR-RELCALID:3900bc950a9ba905bc4789b75532bb09
X-WR-TIMEZONE:America/Chicago
BEGIN:VTIMEZONE
TZID:America/Chicago
BEGIN:STANDARD
TZNAME:CST
DTSTART:20291104T020000
TZOFFSETFROM:-0500
TZOFFSETTO:-0600
RDATE:20301103T020000
RDATE:20311102T020000
END:STANDARD
BEGIN:DAYLIGHT
TZNAME:CDT
DTSTART:20300310T020000
TZOFFSETFROM:-0600
TZOFFSETTO:-0500
RDATE:20310309T020000
END:DAYLIGHT
END:VTIMEZONE
BEGIN:VEVENT
UID:2f0f488e-7700-49fb-b063-60f8c83cb81e
DTSTAMP:20260425T102458Z
DESCRIPTION:
DTSTART;TZID=America/Chicago:20300628T120000
DTEND;TZID=America/Chicago:20300628T130000
LOCATION:
SUMMARY:Board Meeting
END:VEVENT
END:VCALENDAR
