BEGIN:VCALENDAR
VERSION:2.0
PRODID:-//casakc.org//NONSGML kigkonsult.se iCalcreator 2.30.10//
CALSCALE:GREGORIAN
METHOD:PUBLISH
UID:49a1620c-091c-4bb6-8fcf-0bf56ad50907
X-WR-CALDESC:
X-WR-RELCALID:5e14354890816af01fd52c5db18918fa
X-WR-TIMEZONE:America/Chicago
BEGIN:VTIMEZONE
TZID:America/Chicago
BEGIN:STANDARD
TZNAME:CST
DTSTART:20291104T020000
TZOFFSETFROM:-0500
TZOFFSETTO:-0600
RDATE:20301103T020000
RDATE:20311102T020000
END:STANDARD
BEGIN:DAYLIGHT
TZNAME:CDT
DTSTART:20300310T020000
TZOFFSETFROM:-0600
TZOFFSETTO:-0500
RDATE:20310309T020000
END:DAYLIGHT
END:VTIMEZONE
BEGIN:VEVENT
UID:00dcfa1d-0de3-402f-a039-c60d7942272e
DTSTAMP:20260425T112924Z
DESCRIPTION:
DTSTART;TZID=America/Chicago:20300726T120000
DTEND;TZID=America/Chicago:20300726T130000
LOCATION:
SUMMARY:Board Meeting
END:VEVENT
END:VCALENDAR
