BEGIN:VCALENDAR
VERSION:2.0
PRODID:-//casakc.org//NONSGML kigkonsult.se iCalcreator 2.30.10//
CALSCALE:GREGORIAN
METHOD:PUBLISH
UID:44e85b2f-6f80-4761-9cf1-c53a659a1e81
X-WR-CALDESC:
X-WR-RELCALID:92227fcb88a689ce3318ffeaa2b0e924
X-WR-TIMEZONE:America/Chicago
BEGIN:VTIMEZONE
TZID:America/Chicago
BEGIN:STANDARD
TZNAME:CST
DTSTART:20291104T020000
TZOFFSETFROM:-0500
TZOFFSETTO:-0600
RDATE:20301103T020000
RDATE:20311102T020000
END:STANDARD
BEGIN:DAYLIGHT
TZNAME:CDT
DTSTART:20300310T020000
TZOFFSETFROM:-0600
TZOFFSETTO:-0500
RDATE:20310309T020000
END:DAYLIGHT
END:VTIMEZONE
BEGIN:VEVENT
UID:f3762f96-18f6-44a6-8494-55118a505780
DTSTAMP:20260425T125921Z
DESCRIPTION:
DTSTART;TZID=America/Chicago:20300823T120000
DTEND;TZID=America/Chicago:20300823T130000
LOCATION:
SUMMARY:Board Meeting
END:VEVENT
END:VCALENDAR
