BEGIN:VCALENDAR
VERSION:2.0
PRODID:-//casakc.org//NONSGML kigkonsult.se iCalcreator 2.30.10//
CALSCALE:GREGORIAN
METHOD:PUBLISH
UID:37b90e3e-4908-42bb-8a8d-9e74d1bc5a28
X-WR-CALDESC:
X-WR-RELCALID:96bae768492ec9ba82d2d2b403a0df81
X-WR-TIMEZONE:America/Chicago
BEGIN:VTIMEZONE
TZID:America/Chicago
BEGIN:STANDARD
TZNAME:CST
DTSTART:20291104T020000
TZOFFSETFROM:-0500
TZOFFSETTO:-0600
RDATE:20301103T020000
RDATE:20311102T020000
END:STANDARD
BEGIN:DAYLIGHT
TZNAME:CDT
DTSTART:20300310T020000
TZOFFSETFROM:-0600
TZOFFSETTO:-0500
RDATE:20310309T020000
RDATE:20320314T020000
END:DAYLIGHT
END:VTIMEZONE
BEGIN:VEVENT
UID:ba931006-3f56-436d-9243-e1fbb9ba39ef
DTSTAMP:20260425T145742Z
DESCRIPTION:
DTSTART;TZID=America/Chicago:20300927T120000
DTEND;TZID=America/Chicago:20300927T130000
LOCATION:
SUMMARY:Board Meeting
END:VEVENT
END:VCALENDAR
