BEGIN:VCALENDAR
VERSION:2.0
PRODID:-//casakc.org//NONSGML kigkonsult.se iCalcreator 2.30.10//
CALSCALE:GREGORIAN
METHOD:PUBLISH
UID:a3e278f0-ae20-4046-a6d7-df393e92bf49
X-WR-CALDESC:
X-WR-RELCALID:b2ae7b919b3c8ea17d12491936954d8c
X-WR-TIMEZONE:America/Chicago
BEGIN:VTIMEZONE
TZID:America/Chicago
BEGIN:STANDARD
TZNAME:CST
DTSTART:20291104T020000
TZOFFSETFROM:-0500
TZOFFSETTO:-0600
RDATE:20301103T020000
RDATE:20311102T020000
END:STANDARD
BEGIN:DAYLIGHT
TZNAME:CDT
DTSTART:20300310T020000
TZOFFSETFROM:-0600
TZOFFSETTO:-0500
RDATE:20310309T020000
RDATE:20320314T020000
END:DAYLIGHT
END:VTIMEZONE
BEGIN:VEVENT
UID:5c4e3c08-06f4-494c-b0d5-db58e349419c
DTSTAMP:20260425T164154Z
DESCRIPTION:
DTSTART;TZID=America/Chicago:20301025T120000
DTEND;TZID=America/Chicago:20301025T130000
LOCATION:
SUMMARY:Board Meeting
END:VEVENT
END:VCALENDAR
