BEGIN:VCALENDAR
VERSION:2.0
PRODID:-//casakc.org//NONSGML kigkonsult.se iCalcreator 2.30.10//
CALSCALE:GREGORIAN
METHOD:PUBLISH
UID:8282dcb2-65ee-4340-ad82-c3b6b12e4852
X-WR-CALDESC:
X-WR-RELCALID:11a43ad5ef5258852e1fb339aa1aa3c8
X-WR-TIMEZONE:America/Chicago
BEGIN:VTIMEZONE
TZID:America/Chicago
BEGIN:STANDARD
TZNAME:CST
DTSTART:20301103T020000
TZOFFSETFROM:-0500
TZOFFSETTO:-0600
RDATE:20311102T020000
END:STANDARD
BEGIN:DAYLIGHT
TZNAME:CDT
DTSTART:20300310T020000
TZOFFSETFROM:-0600
TZOFFSETTO:-0500
RDATE:20310309T020000
RDATE:20320314T020000
END:DAYLIGHT
END:VTIMEZONE
BEGIN:VEVENT
UID:757ad075-2a7f-4346-8579-82282358715a
DTSTAMP:20260425T175810Z
DESCRIPTION:
DTSTART;TZID=America/Chicago:20301122T120000
DTEND;TZID=America/Chicago:20301122T130000
LOCATION:
SUMMARY:Board Meeting
END:VEVENT
END:VCALENDAR
