BEGIN:VCALENDAR
VERSION:2.0
PRODID:-//casakc.org//NONSGML kigkonsult.se iCalcreator 2.30.10//
CALSCALE:GREGORIAN
METHOD:PUBLISH
UID:e5860787-976d-4750-8db8-427b13a442e5
X-WR-CALDESC:
X-WR-RELCALID:f163185b923859ba673196e48b75b89f
X-WR-TIMEZONE:America/Chicago
BEGIN:VTIMEZONE
TZID:America/Chicago
BEGIN:STANDARD
TZNAME:CST
DTSTART:20301103T020000
TZOFFSETFROM:-0500
TZOFFSETTO:-0600
RDATE:20311102T020000
END:STANDARD
BEGIN:DAYLIGHT
TZNAME:CDT
DTSTART:20300310T020000
TZOFFSETFROM:-0600
TZOFFSETTO:-0500
RDATE:20310309T020000
RDATE:20320314T020000
END:DAYLIGHT
END:VTIMEZONE
BEGIN:VEVENT
UID:2aa90100-8932-4c3c-9a43-8b7f3ce3bb92
DTSTAMP:20260425T192618Z
DESCRIPTION:
DTSTART;TZID=America/Chicago:20301227T120000
DTEND;TZID=America/Chicago:20301227T130000
LOCATION:
SUMMARY:Board Meeting
END:VEVENT
END:VCALENDAR
