BEGIN:VCALENDAR
VERSION:2.0
PRODID:-//casakc.org//NONSGML kigkonsult.se iCalcreator 2.30.10//
CALSCALE:GREGORIAN
METHOD:PUBLISH
UID:7a3f7130-61f3-49dc-89de-104ef478d201
X-WR-CALDESC:
X-WR-RELCALID:a6291063fe82d5c78c97137834743548
X-WR-TIMEZONE:America/Chicago
BEGIN:VTIMEZONE
TZID:America/Chicago
BEGIN:STANDARD
TZNAME:CST
DTSTART:20301103T020000
TZOFFSETFROM:-0500
TZOFFSETTO:-0600
RDATE:20311102T020000
END:STANDARD
BEGIN:DAYLIGHT
TZNAME:CDT
DTSTART:20300310T020000
TZOFFSETFROM:-0600
TZOFFSETTO:-0500
RDATE:20310309T020000
RDATE:20320314T020000
END:DAYLIGHT
END:VTIMEZONE
BEGIN:VEVENT
UID:cab2cf0f-d535-47d4-b195-75efc465781f
DTSTAMP:20260425T211659Z
DESCRIPTION:
DTSTART;TZID=America/Chicago:20310124T120000
DTEND;TZID=America/Chicago:20310124T130000
LOCATION:
SUMMARY:Board Meeting
END:VEVENT
END:VCALENDAR
