BEGIN:VCALENDAR
VERSION:2.0
PRODID:-//casakc.org//NONSGML kigkonsult.se iCalcreator 2.30.10//
CALSCALE:GREGORIAN
METHOD:PUBLISH
UID:d580989a-fe2c-429c-9522-462e6972b319
X-WR-CALDESC:
X-WR-RELCALID:af4df96230d52b6ac7de1c2299514ee3
X-WR-TIMEZONE:America/Chicago
BEGIN:VTIMEZONE
TZID:America/Chicago
BEGIN:STANDARD
TZNAME:CST
DTSTART:20301103T020000
TZOFFSETFROM:-0500
TZOFFSETTO:-0600
RDATE:20311102T020000
END:STANDARD
BEGIN:DAYLIGHT
TZNAME:CDT
DTSTART:20300310T020000
TZOFFSETFROM:-0600
TZOFFSETTO:-0500
RDATE:20310309T020000
RDATE:20320314T020000
END:DAYLIGHT
END:VTIMEZONE
BEGIN:VEVENT
UID:d617abcb-4da6-43bb-a2c9-09393ba83c3f
DTSTAMP:20260425T223836Z
DESCRIPTION:
DTSTART;TZID=America/Chicago:20310228T120000
DTEND;TZID=America/Chicago:20310228T130000
LOCATION:
SUMMARY:Board Meeting
END:VEVENT
END:VCALENDAR
