BEGIN:VCALENDAR
VERSION:2.0
PRODID:-//casakc.org//NONSGML kigkonsult.se iCalcreator 2.30.10//
CALSCALE:GREGORIAN
METHOD:PUBLISH
UID:9fcc93d4-b847-46e6-9dac-efa0d6fdeae4
X-WR-CALDESC:A 30-minute online information session about what a CASA Volun
 teer does and how to become one.
X-WR-RELCALID:0cbd93d5096319dcc22d6c69214635c2
X-WR-TIMEZONE:America/Chicago
BEGIN:VTIMEZONE
TZID:America/Chicago
BEGIN:STANDARD
TZNAME:CST
DTSTART:20201101T020000
TZOFFSETFROM:-0500
TZOFFSETTO:-0600
RDATE:20211107T020000
RDATE:20221106T020000
END:STANDARD
BEGIN:DAYLIGHT
TZNAME:CDT
DTSTART:20210314T020000
TZOFFSETFROM:-0600
TZOFFSETTO:-0500
RDATE:20220313T020000
RDATE:20230312T020000
END:DAYLIGHT
END:VTIMEZONE
BEGIN:VEVENT
UID:a03a892b-8dab-4eaf-97af-a76763e408f1
DTSTAMP:20260423T213140Z
DESCRIPTION:A 30-minute online information session about what a CASA Volunt
 eer does and how to become one.
DTSTART;TZID=America/Chicago:20210911T093000
DTEND;TZID=America/Chicago:20210911T100000
LOCATION:Email Volunteer Program Manager Lisa Martin to sign up.
SUMMARY:Volunteer Info Session
END:VEVENT
END:VCALENDAR
