BEGIN:VCALENDAR
VERSION:2.0
PRODID:-//casakc.org//NONSGML kigkonsult.se iCalcreator 2.30.10//
CALSCALE:GREGORIAN
METHOD:PUBLISH
UID:040b4284-cc19-4e5e-bcb5-8a4cbd27c00d
X-WR-CALDESC:
X-WR-RELCALID:86e004abb3bcf7036572d3e712f19be7
X-WR-TIMEZONE:America/Chicago
BEGIN:VTIMEZONE
TZID:America/Chicago
BEGIN:STANDARD
TZNAME:CST
DTSTART:20201101T020000
TZOFFSETFROM:-0500
TZOFFSETTO:-0600
RDATE:20211107T020000
RDATE:20221106T020000
END:STANDARD
BEGIN:DAYLIGHT
TZNAME:CDT
DTSTART:20210314T020000
TZOFFSETFROM:-0600
TZOFFSETTO:-0500
RDATE:20220313T020000
RDATE:20230312T020000
END:DAYLIGHT
END:VTIMEZONE
BEGIN:VEVENT
UID:2ca21b83-b5b3-4345-8228-50a1eb4a0ea1
DTSTAMP:20260423T213531Z
DESCRIPTION:
DTSTART;TZID=America/Chicago:20210913T170000
DTEND;TZID=America/Chicago:20210913T200000
LOCATION:
SUMMARY:Fostering Futures Training 1/2
END:VEVENT
END:VCALENDAR
