BEGIN:VCALENDAR
VERSION:2.0
PRODID:-//casakc.org//NONSGML kigkonsult.se iCalcreator 2.30.10//
CALSCALE:GREGORIAN
METHOD:PUBLISH
UID:86bbd569-d06e-4602-a2dd-3e189bf4b058
X-WR-CALDESC:
X-WR-RELCALID:d624c2bc293bc5888cd169707e28c0b7
X-WR-TIMEZONE:America/Chicago
BEGIN:VTIMEZONE
TZID:America/Chicago
BEGIN:STANDARD
TZNAME:CST
DTSTART:20201101T020000
TZOFFSETFROM:-0500
TZOFFSETTO:-0600
RDATE:20211107T020000
RDATE:20221106T020000
END:STANDARD
BEGIN:DAYLIGHT
TZNAME:CDT
DTSTART:20210314T020000
TZOFFSETFROM:-0600
TZOFFSETTO:-0500
RDATE:20220313T020000
RDATE:20230312T020000
END:DAYLIGHT
END:VTIMEZONE
BEGIN:VEVENT
UID:e72da487-1ef0-4b51-a2ab-fff35c7c7011
DTSTAMP:20260423T213827Z
DESCRIPTION:
DTSTART;TZID=America/Chicago:20210915T170000
DTEND;TZID=America/Chicago:20210915T200000
LOCATION:
SUMMARY:Fostering Futures Training 2/2
END:VEVENT
END:VCALENDAR
