BEGIN:VCALENDAR
VERSION:2.0
PRODID:-//casakc.org//NONSGML kigkonsult.se iCalcreator 2.30.10//
CALSCALE:GREGORIAN
METHOD:PUBLISH
UID:e5c9cba5-3061-41cf-bfde-5014066a2f17
X-WR-CALDESC:
X-WR-RELCALID:191521e686e96b373f0fe9af48542c6e
X-WR-TIMEZONE:America/Chicago
BEGIN:VTIMEZONE
TZID:America/Chicago
BEGIN:STANDARD
TZNAME:CST
DTSTART:20201101T020000
TZOFFSETFROM:-0500
TZOFFSETTO:-0600
RDATE:20211107T020000
RDATE:20221106T020000
END:STANDARD
BEGIN:DAYLIGHT
TZNAME:CDT
DTSTART:20210314T020000
TZOFFSETFROM:-0600
TZOFFSETTO:-0500
RDATE:20220313T020000
RDATE:20230312T020000
END:DAYLIGHT
END:VTIMEZONE
BEGIN:VEVENT
UID:cc7d1729-ffcd-4b39-b2c1-2ead5cd66392
DTSTAMP:20260423T213252Z
DESCRIPTION:
DTSTART;TZID=America/Chicago:20210915T170000
DTEND;TZID=America/Chicago:20210915T190000
LOCATION:Email Lisa Martin\, LMartin@jacksoncountycasa-mo.org for the Zoom 
 link.
SUMMARY:Volunteer Training 2/5
END:VEVENT
END:VCALENDAR
