BEGIN:VCALENDAR
VERSION:2.0
PRODID:-//casakc.org//NONSGML kigkonsult.se iCalcreator 2.30.10//
CALSCALE:GREGORIAN
METHOD:PUBLISH
UID:ed7e9ac6-be3c-41a6-88bd-bb78ab5fa14b
X-WR-CALDESC:
X-WR-RELCALID:5e3e82092ef92f6a9143f51d6360a094
X-WR-TIMEZONE:America/Chicago
BEGIN:VTIMEZONE
TZID:America/Chicago
BEGIN:STANDARD
TZNAME:CST
DTSTART:20201101T020000
TZOFFSETFROM:-0500
TZOFFSETTO:-0600
RDATE:20211107T020000
RDATE:20221106T020000
END:STANDARD
BEGIN:DAYLIGHT
TZNAME:CDT
DTSTART:20210314T020000
TZOFFSETFROM:-0600
TZOFFSETTO:-0500
RDATE:20220313T020000
RDATE:20230312T020000
END:DAYLIGHT
END:VTIMEZONE
BEGIN:VEVENT
UID:fa7ad600-c4ac-4bee-8fc3-3e7e211b57b3
DTSTAMP:20260423T213957Z
DESCRIPTION:
DTSTART;TZID=America/Chicago:20210917T170000
DTEND;TZID=America/Chicago:20210917T200000
LOCATION:Email Lisa Martin\, LMartin@jacksoncountycasa-mo.org for the Zoom 
 link.
SUMMARY:Volunteer Training 3/5
END:VEVENT
END:VCALENDAR
