BEGIN:VCALENDAR
VERSION:2.0
PRODID:-//casakc.org//NONSGML kigkonsult.se iCalcreator 2.30.10//
CALSCALE:GREGORIAN
METHOD:PUBLISH
UID:0a132e2a-6e5d-4b68-a911-13bb4636e2ff
X-WR-CALDESC:
X-WR-RELCALID:e0abd6017ff8c9b79792ac26056bea90
X-WR-TIMEZONE:America/Chicago
BEGIN:VTIMEZONE
TZID:America/Chicago
BEGIN:STANDARD
TZNAME:CST
DTSTART:20201101T020000
TZOFFSETFROM:-0500
TZOFFSETTO:-0600
RDATE:20211107T020000
RDATE:20221106T020000
END:STANDARD
BEGIN:DAYLIGHT
TZNAME:CDT
DTSTART:20210314T020000
TZOFFSETFROM:-0600
TZOFFSETTO:-0500
RDATE:20220313T020000
RDATE:20230312T020000
END:DAYLIGHT
END:VTIMEZONE
BEGIN:VEVENT
UID:bb0f37c1-a70b-496c-a756-5db46842df1d
DTSTAMP:20260423T212908Z
DESCRIPTION:
DTSTART;TZID=America/Chicago:20210920T170000
DTEND;TZID=America/Chicago:20210920T200000
LOCATION:Email Lisa\, LMartin@jacksoncountycasa-mo.org for the Zoom link.
SUMMARY:Volunteer Training 4/5
END:VEVENT
END:VCALENDAR
