BEGIN:VCALENDAR
VERSION:2.0
PRODID:-//casakc.org//NONSGML kigkonsult.se iCalcreator 2.30.10//
CALSCALE:GREGORIAN
METHOD:PUBLISH
UID:dc89271a-6b3b-449c-8104-c880d186c12b
X-WR-CALDESC:
X-WR-RELCALID:9dc28fc8e28588467afe6138707d9c67
X-WR-TIMEZONE:America/Chicago
BEGIN:VTIMEZONE
TZID:America/Chicago
BEGIN:STANDARD
TZNAME:CST
DTSTART:20201101T020000
TZOFFSETFROM:-0500
TZOFFSETTO:-0600
RDATE:20211107T020000
RDATE:20221106T020000
END:STANDARD
BEGIN:DAYLIGHT
TZNAME:CDT
DTSTART:20210314T020000
TZOFFSETFROM:-0600
TZOFFSETTO:-0500
RDATE:20220313T020000
RDATE:20230312T020000
END:DAYLIGHT
END:VTIMEZONE
BEGIN:VEVENT
UID:382ad732-3b0a-45cd-8682-8d32474017d4
DTSTAMP:20260423T213902Z
DESCRIPTION:
DTSTART;TZID=America/Chicago:20210922T170000
DTEND;TZID=America/Chicago:20210922T183000
LOCATION:Email Crystal Elijah-Davis for the Zoom lnk.
SUMMARY:Older Youth Workshop: College Trivia
END:VEVENT
END:VCALENDAR
