BEGIN:VCALENDAR
VERSION:2.0
PRODID:-//casakc.org//NONSGML kigkonsult.se iCalcreator 2.30.10//
CALSCALE:GREGORIAN
METHOD:PUBLISH
UID:7857cd92-df5f-48b9-8fc5-00b01d579edd
X-WR-CALDESC:
X-WR-RELCALID:710daa1399444f93b509b4572fc16fa0
X-WR-TIMEZONE:America/Chicago
BEGIN:VTIMEZONE
TZID:America/Chicago
BEGIN:STANDARD
TZNAME:CST
DTSTART:20201101T020000
TZOFFSETFROM:-0500
TZOFFSETTO:-0600
RDATE:20211107T020000
RDATE:20221106T020000
END:STANDARD
BEGIN:DAYLIGHT
TZNAME:CDT
DTSTART:20210314T020000
TZOFFSETFROM:-0600
TZOFFSETTO:-0500
RDATE:20220313T020000
RDATE:20230312T020000
END:DAYLIGHT
END:VTIMEZONE
BEGIN:VEVENT
UID:b9c9ca05-a3e6-402c-bee1-382bbcdfa00e
DTSTAMP:20260423T213249Z
DESCRIPTION:
DTSTART;TZID=America/Chicago:20210922T170000
DTEND;TZID=America/Chicago:20210922T190000
LOCATION:Email Lisa Martin\, LMartin@jacksoncountycasa-mo.org for the Zoom 
 link.
SUMMARY:Volunteer Training 4/5
END:VEVENT
END:VCALENDAR
