BEGIN:VCALENDAR
VERSION:2.0
PRODID:-//casakc.org//NONSGML kigkonsult.se iCalcreator 2.30.10//
CALSCALE:GREGORIAN
METHOD:PUBLISH
UID:b26d13dc-8a0d-4fb9-946d-47710b3242e0
X-WR-CALDESC:This volunteer information session will explain what a CASA Vo
 lunteer does and the steps required to become one.
X-WR-RELCALID:9e0ad9c8597d8b89d25848acc4fdc484
X-WR-TIMEZONE:America/Chicago
BEGIN:VTIMEZONE
TZID:America/Chicago
BEGIN:STANDARD
TZNAME:CST
DTSTART:20201101T020000
TZOFFSETFROM:-0500
TZOFFSETTO:-0600
RDATE:20211107T020000
RDATE:20221106T020000
END:STANDARD
BEGIN:DAYLIGHT
TZNAME:CDT
DTSTART:20210314T020000
TZOFFSETFROM:-0600
TZOFFSETTO:-0500
RDATE:20220313T020000
RDATE:20230312T020000
END:DAYLIGHT
END:VTIMEZONE
BEGIN:VEVENT
UID:8873eebb-8e86-4f0a-a4cb-42f256a44852
DTSTAMP:20260423T211829Z
DESCRIPTION:This volunteer information session will explain what a CASA Vol
 unteer does and the steps required to become one.
DTSTART;TZID=America/Chicago:20210923T120000
DTEND;TZID=America/Chicago:20210923T123000
LOCATION:Email Volunteer Program Manager Lisa Martin to sign up.
SUMMARY:Volunteer Info Session
END:VEVENT
END:VCALENDAR
