BEGIN:VCALENDAR
VERSION:2.0
PRODID:-//casakc.org//NONSGML kigkonsult.se iCalcreator 2.30.10//
CALSCALE:GREGORIAN
METHOD:PUBLISH
UID:e80aa976-b9ea-4577-a87e-864f093c55ab
X-WR-CALDESC:
X-WR-RELCALID:dac813528b4cae030df1064ef85308ff
X-WR-TIMEZONE:America/Chicago
BEGIN:VTIMEZONE
TZID:America/Chicago
BEGIN:STANDARD
TZNAME:CST
DTSTART:20201101T020000
TZOFFSETFROM:-0500
TZOFFSETTO:-0600
RDATE:20211107T020000
RDATE:20221106T020000
END:STANDARD
BEGIN:DAYLIGHT
TZNAME:CDT
DTSTART:20210314T020000
TZOFFSETFROM:-0600
TZOFFSETTO:-0500
RDATE:20220313T020000
RDATE:20230312T020000
END:DAYLIGHT
END:VTIMEZONE
BEGIN:VEVENT
UID:32048ac3-f837-4e51-ac66-f91dfc2e3195
DTSTAMP:20260423T213836Z
DESCRIPTION:
DTSTART;TZID=America/Chicago:20210924T120000
DTEND;TZID=America/Chicago:20210924T130000
LOCATION:
SUMMARY:Board Meeting
END:VEVENT
END:VCALENDAR
