BEGIN:VCALENDAR
VERSION:2.0
PRODID:-//casakc.org//NONSGML kigkonsult.se iCalcreator 2.30.10//
CALSCALE:GREGORIAN
METHOD:PUBLISH
UID:32e5866c-c2b5-4796-b268-53583181382a
X-WR-CALDESC:
X-WR-RELCALID:2a9b459bd978ad6a93efc514f45757f9
X-WR-TIMEZONE:America/Chicago
BEGIN:VTIMEZONE
TZID:America/Chicago
BEGIN:STANDARD
TZNAME:CST
DTSTART:20201101T020000
TZOFFSETFROM:-0500
TZOFFSETTO:-0600
RDATE:20211107T020000
RDATE:20221106T020000
END:STANDARD
BEGIN:DAYLIGHT
TZNAME:CDT
DTSTART:20210314T020000
TZOFFSETFROM:-0600
TZOFFSETTO:-0500
RDATE:20220313T020000
RDATE:20230312T020000
END:DAYLIGHT
END:VTIMEZONE
BEGIN:VEVENT
UID:57558faf-6968-4a70-b612-1cc2a15061c6
DTSTAMP:20260423T213902Z
DESCRIPTION:
DTSTART;TZID=America/Chicago:20210928T170000
DTEND;TZID=America/Chicago:20210928T190000
LOCATION:
SUMMARY:Older Youth Workshop: Making Proud Choices
END:VEVENT
END:VCALENDAR
