BEGIN:VCALENDAR
VERSION:2.0
PRODID:-//casakc.org//NONSGML kigkonsult.se iCalcreator 2.30.10//
CALSCALE:GREGORIAN
METHOD:PUBLISH
UID:6eb37ca7-fb71-4d8c-a6ed-08b088ef6572
X-WR-CALDESC:Now that you have your first case\, you may have more question
 s about the nuts and bolts of representing your child's best interests. Th
 is training will help you put your initial training into practice.
X-WR-RELCALID:b0ff8f4c691dca7aa844509b8c53d823
X-WR-TIMEZONE:America/Chicago
BEGIN:VTIMEZONE
TZID:America/Chicago
BEGIN:STANDARD
TZNAME:CST
DTSTART:20201101T020000
TZOFFSETFROM:-0500
TZOFFSETTO:-0600
RDATE:20211107T020000
RDATE:20221106T020000
END:STANDARD
BEGIN:DAYLIGHT
TZNAME:CDT
DTSTART:20210314T020000
TZOFFSETFROM:-0600
TZOFFSETTO:-0500
RDATE:20220313T020000
RDATE:20230312T020000
END:DAYLIGHT
END:VTIMEZONE
BEGIN:VEVENT
UID:9b2198e8-1516-4982-95bd-f0a61cd34928
DTSTAMP:20260423T211716Z
DESCRIPTION:Now that you have your first case\, you may have more questions
  about the nuts and bolts of representing your child's best interests. Thi
 s training will help you put your initial training into practice.
DTSTART;TZID=America/Chicago:20210929T170000
DTEND;TZID=America/Chicago:20210929T190000
LOCATION:For Current Volunteers.  Email Volunteer Program Manager Lisa Mart
 in to sign up.
SUMMARY:Nuts & Bolts Training
END:VEVENT
END:VCALENDAR
