BEGIN:VCALENDAR
VERSION:2.0
PRODID:-//casakc.org//NONSGML kigkonsult.se iCalcreator 2.30.10//
CALSCALE:GREGORIAN
METHOD:PUBLISH
UID:74b9ec2b-469e-4b81-9d99-5bb7771ed74c
X-WR-CALDESC:Cocktails for CASA—A Night of Hope is Jackson County CASA’s ev
 ening fundraiser. Guests will enjoy exceptional food and drink\, silent an
 d live auction items\, all in the stylish Pennway Place event space. The e
 vent funds CASA’s work so that children who have experienced abuse and neg
 lect will have a trained CASA Volunteer to help ensure they will grow up i
 n a safe and permanent home.
X-WR-RELCALID:3fffcf587d48365d61dbe67a752e2b22
X-WR-TIMEZONE:America/Chicago
BEGIN:VTIMEZONE
TZID:America/Chicago
BEGIN:STANDARD
TZNAME:CST
DTSTART:20201101T020000
TZOFFSETFROM:-0500
TZOFFSETTO:-0600
RDATE:20211107T020000
RDATE:20221106T020000
END:STANDARD
BEGIN:DAYLIGHT
TZNAME:CDT
DTSTART:20210314T020000
TZOFFSETFROM:-0600
TZOFFSETTO:-0500
RDATE:20220313T020000
RDATE:20230312T020000
END:DAYLIGHT
END:VTIMEZONE
BEGIN:VEVENT
UID:ca81cbe7-ac33-424f-983b-f8b91a6c113b
DTSTAMP:20260423T202534Z
DESCRIPTION:Cocktails for CASA—A Night of Hope is Jackson County CASA’s eve
 ning fundraiser. Guests will enjoy exceptional food and drink\, silent and
  live auction items\, all in the stylish Pennway Place event space. The ev
 ent funds CASA’s work so that children who have experienced abuse and negl
 ect will have a trained CASA Volunteer to help ensure they will grow up in
  a safe and permanent home.
DTSTART;TZID=America/Chicago:20211001T180000
DTEND;TZID=America/Chicago:20211001T220000
LOCATION:2500 West Pennway Street\, 1021 NE Colburn Rd\, Kansas City\, MO 6
 4108 US
SUMMARY:Cocktails for CASA--A Night of Hope
END:VEVENT
END:VCALENDAR
