BEGIN:VCALENDAR
VERSION:2.0
PRODID:-//casakc.org//NONSGML kigkonsult.se iCalcreator 2.30.10//
CALSCALE:GREGORIAN
METHOD:PUBLISH
UID:b82a796b-ccde-40b1-a3b1-b6576e0277fc
X-WR-CALDESC:
X-WR-RELCALID:04c77f2312356763f042eab5e470c6e3
X-WR-TIMEZONE:America/Chicago
BEGIN:VTIMEZONE
TZID:America/Chicago
BEGIN:STANDARD
TZNAME:CST
DTSTART:20201101T020000
TZOFFSETFROM:-0500
TZOFFSETTO:-0600
RDATE:20211107T020000
RDATE:20221106T020000
END:STANDARD
BEGIN:DAYLIGHT
TZNAME:CDT
DTSTART:20210314T020000
TZOFFSETFROM:-0600
TZOFFSETTO:-0500
RDATE:20220313T020000
RDATE:20230312T020000
END:DAYLIGHT
END:VTIMEZONE
BEGIN:VEVENT
UID:cd6b83e9-940e-48de-8b0b-ccd7184024ce
DTSTAMP:20260423T202942Z
DESCRIPTION:
DTSTART;TZID=America/Chicago:20211011T000000
DTEND;TZID=America/Chicago:20211011T233000
LOCATION:
SUMMARY:Court Holiday--Office Closed
END:VEVENT
END:VCALENDAR
