BEGIN:VCALENDAR
VERSION:2.0
PRODID:-//casakc.org//NONSGML kigkonsult.se iCalcreator 2.30.10//
CALSCALE:GREGORIAN
METHOD:PUBLISH
UID:2e30e64f-bb58-433f-92c5-80dae7e26c1d
X-WR-CALDESC:
X-WR-RELCALID:c3eb573f5b335f2945e23d3f60a1080e
X-WR-TIMEZONE:America/Chicago
BEGIN:VTIMEZONE
TZID:America/Chicago
BEGIN:STANDARD
TZNAME:CST
DTSTART:20201101T020000
TZOFFSETFROM:-0500
TZOFFSETTO:-0600
RDATE:20211107T020000
RDATE:20221106T020000
END:STANDARD
BEGIN:DAYLIGHT
TZNAME:CDT
DTSTART:20210314T020000
TZOFFSETFROM:-0600
TZOFFSETTO:-0500
RDATE:20220313T020000
RDATE:20230312T020000
END:DAYLIGHT
END:VTIMEZONE
BEGIN:VEVENT
UID:2e4b966f-d22b-4320-9299-fab87815c100
DTSTAMP:20260423T205104Z
DESCRIPTION:
DTSTART;TZID=America/Chicago:20211012T170000
DTEND;TZID=America/Chicago:20211012T200000
LOCATION:
SUMMARY:Volunteer Training 1/5
END:VEVENT
END:VCALENDAR
