BEGIN:VCALENDAR
VERSION:2.0
PRODID:-//casakc.org//NONSGML kigkonsult.se iCalcreator 2.30.10//
CALSCALE:GREGORIAN
METHOD:PUBLISH
UID:e8fca298-192d-495d-ab3e-b68750b65dd6
X-WR-CALDESC:
X-WR-RELCALID:ea87af57d9e61455eaca44c886e53595
X-WR-TIMEZONE:America/Chicago
BEGIN:VTIMEZONE
TZID:America/Chicago
BEGIN:STANDARD
TZNAME:CST
DTSTART:20201101T020000
TZOFFSETFROM:-0500
TZOFFSETTO:-0600
RDATE:20211107T020000
RDATE:20221106T020000
END:STANDARD
BEGIN:DAYLIGHT
TZNAME:CDT
DTSTART:20210314T020000
TZOFFSETFROM:-0600
TZOFFSETTO:-0500
RDATE:20220313T020000
RDATE:20230312T020000
END:DAYLIGHT
END:VTIMEZONE
BEGIN:VEVENT
UID:91f9a02f-6908-4dd5-a4e5-dbabe9e4f5d5
DTSTAMP:20260423T203010Z
DESCRIPTION:
DTSTART;TZID=America/Chicago:20211014T170000
DTEND;TZID=America/Chicago:20211014T200000
LOCATION:
SUMMARY:Volunteer Training 2/5
END:VEVENT
END:VCALENDAR
