BEGIN:VCALENDAR
VERSION:2.0
PRODID:-//casakc.org//NONSGML kigkonsult.se iCalcreator 2.30.10//
CALSCALE:GREGORIAN
METHOD:PUBLISH
UID:19c1e437-4c7e-47a6-8efc-7bd4474b3507
X-WR-CALDESC:Join us for a 30-minute online no obligation information sessi
 on about what it means to be a CASA Volunteer.  Attending an information s
 ession is a prerequisite for attending CASA Volunteer training.
X-WR-RELCALID:68190e4af4680c2e70564e9e58579d12
X-WR-TIMEZONE:America/Chicago
BEGIN:VTIMEZONE
TZID:America/Chicago
BEGIN:STANDARD
TZNAME:CST
DTSTART:20201101T020000
TZOFFSETFROM:-0500
TZOFFSETTO:-0600
RDATE:20211107T020000
RDATE:20221106T020000
END:STANDARD
BEGIN:DAYLIGHT
TZNAME:CDT
DTSTART:20210314T020000
TZOFFSETFROM:-0600
TZOFFSETTO:-0500
RDATE:20220313T020000
RDATE:20230312T020000
END:DAYLIGHT
END:VTIMEZONE
BEGIN:VEVENT
UID:c1725274-120f-4ef9-ba3d-ddfd1cb0a016
DTSTAMP:20260423T201628Z
DESCRIPTION:Join us for a 30-minute online no obligation information sessio
 n about what it means to be a CASA Volunteer.  Attending an information se
 ssion is a prerequisite for attending CASA Volunteer training.
DTSTART;TZID=America/Chicago:20211018T173000
DTEND;TZID=America/Chicago:20211018T180000
LOCATION:https://www.jacksoncountycasa-mo.org/volunteer/pre-qualification-f
 orm.html
SUMMARY:Volunteer Info Session
END:VEVENT
END:VCALENDAR
