BEGIN:VCALENDAR
VERSION:2.0
PRODID:-//casakc.org//NONSGML kigkonsult.se iCalcreator 2.30.10//
CALSCALE:GREGORIAN
METHOD:PUBLISH
UID:638f26a4-7f56-4fcb-a251-ec8fc19f3c4b
X-WR-CALDESC:Join us for a 30-minute online no obligation information sessi
 on about what it means to be a CASA Volunteer.  Attending an information s
 ession is a prerequisite for attending CASA Volunteer training.
X-WR-RELCALID:89ce8fa05bcf2f6fb6064d6eb8639d7f
X-WR-TIMEZONE:America/Chicago
BEGIN:VTIMEZONE
TZID:America/Chicago
BEGIN:STANDARD
TZNAME:CST
DTSTART:20201101T020000
TZOFFSETFROM:-0500
TZOFFSETTO:-0600
RDATE:20211107T020000
RDATE:20221106T020000
END:STANDARD
BEGIN:DAYLIGHT
TZNAME:CDT
DTSTART:20210314T020000
TZOFFSETFROM:-0600
TZOFFSETTO:-0500
RDATE:20220313T020000
RDATE:20230312T020000
END:DAYLIGHT
END:VTIMEZONE
BEGIN:VEVENT
UID:d3a422af-d630-4996-914e-bd221124ced2
DTSTAMP:20260423T201409Z
DESCRIPTION:Join us for a 30-minute online no obligation information sessio
 n about what it means to be a CASA Volunteer.  Attending an information se
 ssion is a prerequisite for attending CASA Volunteer training.
DTSTART;TZID=America/Chicago:20211020T100000
DTEND;TZID=America/Chicago:20211020T103000
LOCATION:https://www.jacksoncountycasa-mo.org/volunteer/pre-qualification-f
 orm.html
SUMMARY:Volunteer Info Session
END:VEVENT
END:VCALENDAR
