BEGIN:VCALENDAR
VERSION:2.0
PRODID:-//casakc.org//NONSGML kigkonsult.se iCalcreator 2.30.10//
CALSCALE:GREGORIAN
METHOD:PUBLISH
UID:05b5cd76-0496-4fe1-8279-aa65d2546a0f
X-WR-CALDESC:
X-WR-RELCALID:b4ba2281297a736fbf4943a0f3f90012
X-WR-TIMEZONE:America/Chicago
BEGIN:VTIMEZONE
TZID:America/Chicago
BEGIN:STANDARD
TZNAME:CST
DTSTART:20201101T020000
TZOFFSETFROM:-0500
TZOFFSETTO:-0600
RDATE:20211107T020000
RDATE:20221106T020000
END:STANDARD
BEGIN:DAYLIGHT
TZNAME:CDT
DTSTART:20210314T020000
TZOFFSETFROM:-0600
TZOFFSETTO:-0500
RDATE:20220313T020000
RDATE:20230312T020000
END:DAYLIGHT
END:VTIMEZONE
BEGIN:VEVENT
UID:ff932df4-a3be-4cb2-b58d-1602508a0f12
DTSTAMP:20260423T201628Z
DESCRIPTION:
DTSTART;TZID=America/Chicago:20211021T170000
DTEND;TZID=America/Chicago:20211021T200000
LOCATION:
SUMMARY:Volunteer Training 4/5
END:VEVENT
END:VCALENDAR
