BEGIN:VCALENDAR
VERSION:2.0
PRODID:-//casakc.org//NONSGML kigkonsult.se iCalcreator 2.30.10//
CALSCALE:GREGORIAN
METHOD:PUBLISH
UID:10358863-1981-41f0-9e05-1985a83fd239
X-WR-CALDESC:Join us for a 30-minute online no obligation information sessi
 on about what it means to be a CASA Volunteer.  Attending an information s
 ession is a prerequisite for attending CASA Volunteer training.
X-WR-RELCALID:8221bae09986589b448ae2d7a6802223
X-WR-TIMEZONE:America/Chicago
BEGIN:VTIMEZONE
TZID:America/Chicago
BEGIN:STANDARD
TZNAME:CST
DTSTART:20201101T020000
TZOFFSETFROM:-0500
TZOFFSETTO:-0600
RDATE:20211107T020000
RDATE:20221106T020000
END:STANDARD
BEGIN:DAYLIGHT
TZNAME:CDT
DTSTART:20210314T020000
TZOFFSETFROM:-0600
TZOFFSETTO:-0500
RDATE:20220313T020000
RDATE:20230312T020000
END:DAYLIGHT
END:VTIMEZONE
BEGIN:VEVENT
UID:9f6264bd-de8a-4234-8345-bb0a2d3dc2d6
DTSTAMP:20260423T201624Z
DESCRIPTION:Join us for a 30-minute online no obligation information sessio
 n about what it means to be a CASA Volunteer.  Attending an information se
 ssion is a prerequisite for attending CASA Volunteer training.
DTSTART;TZID=America/Chicago:20211023T093000
DTEND;TZID=America/Chicago:20211023T100000
LOCATION:https://www.jacksoncountycasa-mo.org/volunteer/pre-qualification-f
 orm.html
SUMMARY:Volunteer Info Session
END:VEVENT
END:VCALENDAR
