BEGIN:VCALENDAR
VERSION:2.0
PRODID:-//casakc.org//NONSGML kigkonsult.se iCalcreator 2.30.10//
CALSCALE:GREGORIAN
METHOD:PUBLISH
UID:84ebefd7-93c1-4e28-99b9-8bfe5fc999cc
X-WR-CALDESC:Join us for a 30-minute online no obligation information sessi
 on about what it means to be a CASA volunteer. Attending an information se
 ssion is a prerequisite for attending CASA Volunteer Training.\n\nRegister
  now to receive the Zoom link for this session or email Volunteer Speciali
 st Kara Strickler at kstrickler@jacksoncountycasa-mo.org.
X-WR-RELCALID:b1f5cddc3b5f1d6b31b8c9547e3b2126
X-WR-TIMEZONE:America/Chicago
BEGIN:VTIMEZONE
TZID:America/Chicago
BEGIN:STANDARD
TZNAME:CST
DTSTART:20211107T020000
TZOFFSETFROM:-0500
TZOFFSETTO:-0600
RDATE:20221106T020000
END:STANDARD
BEGIN:DAYLIGHT
TZNAME:CDT
DTSTART:20210314T020000
TZOFFSETFROM:-0600
TZOFFSETTO:-0500
RDATE:20220313T020000
RDATE:20230312T020000
END:DAYLIGHT
END:VTIMEZONE
BEGIN:VEVENT
UID:d3349c93-58c4-4a31-8123-950a10b29f64
DTSTAMP:20260423T183806Z
DESCRIPTION:Join us for a 30-minute online no obligation information sessio
 n about what it means to be a CASA volunteer. Attending an information ses
 sion is a prerequisite for attending CASA Volunteer Training.\n\nRegister 
 now to receive the Zoom link for this session or email Volunteer Specialis
 t Kara Strickler at kstrickler@jacksoncountycasa-mo.org.
DTSTART;TZID=America/Chicago:20211118T120000
DTEND;TZID=America/Chicago:20211118T123000
LOCATION:
SUMMARY:Volunteer Info Session
END:VEVENT
END:VCALENDAR
