BEGIN:VCALENDAR
VERSION:2.0
PRODID:-//casakc.org//NONSGML kigkonsult.se iCalcreator 2.30.10//
CALSCALE:GREGORIAN
METHOD:PUBLISH
UID:3f2f892a-8bc6-487a-a9fa-257c35411f50
X-WR-CALDESC:Drop off Holiday Gifts for children served by CASA.  We are re
 ceiving gifts at Satchel Paige Elementary School\, 3301 E. 75th St\, Kansa
 s City\, MO 64132.
X-WR-RELCALID:aede64ec9dab9c76cd3ef87ee5e980ba
X-WR-TIMEZONE:America/Chicago
BEGIN:VTIMEZONE
TZID:America/Chicago
BEGIN:STANDARD
TZNAME:CST
DTSTART:20211107T020000
TZOFFSETFROM:-0500
TZOFFSETTO:-0600
RDATE:20221106T020000
END:STANDARD
BEGIN:DAYLIGHT
TZNAME:CDT
DTSTART:20210314T020000
TZOFFSETFROM:-0600
TZOFFSETTO:-0500
RDATE:20220313T020000
RDATE:20230312T020000
END:DAYLIGHT
END:VTIMEZONE
BEGIN:VEVENT
UID:e236dfa4-f49b-4365-ab93-a60d638a2fc3
DTSTAMP:20260423T170720Z
DESCRIPTION:Drop off Holiday Gifts for children served by CASA.  We are rec
 eiving gifts at Satchel Paige Elementary School\, 3301 E. 75th St\, Kansas
  City\, MO 64132.
DTSTART;TZID=America/Chicago:20211201T090000
DTEND;TZID=America/Chicago:20211201T170000
LOCATION:
SUMMARY:Holiday Gift Drive Drop Off
END:VEVENT
END:VCALENDAR
