BEGIN:VCALENDAR
VERSION:2.0
PRODID:-//casakc.org//NONSGML kigkonsult.se iCalcreator 2.30.10//
CALSCALE:GREGORIAN
METHOD:PUBLISH
UID:26a81e87-f096-42cd-bc47-6e60753d761f
X-WR-CALDESC:Drop off Holiday Gifts for children served by CASA.  We are re
 ceiving gifts at Satchel Paige Elementary School\, 3301 E. 75th St\, Kansa
 s City\, MO 64132.
X-WR-RELCALID:43f5895276e8a056dcfd774487b32bad
X-WR-TIMEZONE:America/Chicago
BEGIN:VTIMEZONE
TZID:America/Chicago
BEGIN:STANDARD
TZNAME:CST
DTSTART:20211107T020000
TZOFFSETFROM:-0500
TZOFFSETTO:-0600
RDATE:20221106T020000
END:STANDARD
BEGIN:DAYLIGHT
TZNAME:CDT
DTSTART:20210314T020000
TZOFFSETFROM:-0600
TZOFFSETTO:-0500
RDATE:20220313T020000
RDATE:20230312T020000
END:DAYLIGHT
END:VTIMEZONE
BEGIN:VEVENT
UID:1abf79f9-fbcd-4304-bfcc-d4e461bf2adc
DTSTAMP:20260423T170549Z
DESCRIPTION:Drop off Holiday Gifts for children served by CASA.  We are rec
 eiving gifts at Satchel Paige Elementary School\, 3301 E. 75th St\, Kansas
  City\, MO 64132.
DTSTART;TZID=America/Chicago:20211211T100000
DTEND;TZID=America/Chicago:20211211T140000
LOCATION:
SUMMARY:Holiday Gift Drive Drop Off
END:VEVENT
END:VCALENDAR
