BEGIN:VCALENDAR
VERSION:2.0
PRODID:-//casakc.org//NONSGML kigkonsult.se iCalcreator 2.30.10//
CALSCALE:GREGORIAN
METHOD:PUBLISH
UID:81547bd0-b4a3-4f4a-b837-128530913db4
X-WR-CALDESC:
X-WR-RELCALID:67fed478c40aefc1319b38f933fc5269
X-WR-TIMEZONE:America/Chicago
BEGIN:VTIMEZONE
TZID:America/Chicago
BEGIN:STANDARD
TZNAME:CST
DTSTART:20211107T020000
TZOFFSETFROM:-0500
TZOFFSETTO:-0600
RDATE:20221106T020000
END:STANDARD
BEGIN:DAYLIGHT
TZNAME:CDT
DTSTART:20210314T020000
TZOFFSETFROM:-0600
TZOFFSETTO:-0500
RDATE:20220313T020000
RDATE:20230312T020000
END:DAYLIGHT
END:VTIMEZONE
BEGIN:VEVENT
UID:43074fe2-bb42-4610-92b9-5ee662857114
DTSTAMP:20260423T152900Z
DESCRIPTION:
DTSTART;TZID=America/Chicago:20220117T000000
DTEND;TZID=America/Chicago:20220117T235900
LOCATION:
SUMMARY:MLK\, Jr. Day CASA Office Closed
END:VEVENT
END:VCALENDAR
