BEGIN:VCALENDAR
VERSION:2.0
PRODID:-//casakc.org//NONSGML kigkonsult.se iCalcreator 2.30.10//
CALSCALE:GREGORIAN
METHOD:PUBLISH
UID:9168a090-bd39-43f0-b6fa-3c6d3b8f07ad
X-WR-CALDESC:All CASA Volunteers must complete Volunteer Training prior to 
 being assigned to a case. To learn about the role and requirements of bein
 g a CASA Volunteer and to sign up to attend an Info Session\, which is a p
 rerequisite to Volunteer Training\, visit https://www.jacksoncountycasa-mo
 .org/volunteer/.
X-WR-RELCALID:dbeb44a3c3a3db6692e66a8689e5ce9e
X-WR-TIMEZONE:America/Chicago
BEGIN:VTIMEZONE
TZID:America/Chicago
BEGIN:STANDARD
TZNAME:CST
DTSTART:20211107T020000
TZOFFSETFROM:-0500
TZOFFSETTO:-0600
RDATE:20221106T020000
END:STANDARD
BEGIN:DAYLIGHT
TZNAME:CDT
DTSTART:20210314T020000
TZOFFSETFROM:-0600
TZOFFSETTO:-0500
RDATE:20220313T020000
RDATE:20230312T020000
END:DAYLIGHT
END:VTIMEZONE
BEGIN:VEVENT
UID:00203a7d-c5c6-48c2-9297-f51ab4addb03
DTSTAMP:20260423T151358Z
DESCRIPTION:All CASA Volunteers must complete Volunteer Training prior to b
 eing assigned to a case. To learn about the role and requirements of being
  a CASA Volunteer and to sign up to attend an Info Session\, which is a pr
 erequisite to Volunteer Training\, visit https://www.jacksoncountycasa-mo.
 org/volunteer/.
DTSTART;TZID=America/Chicago:20220120T170000
DTEND;TZID=America/Chicago:20220120T200000
LOCATION:
SUMMARY:Volunteer Training
END:VEVENT
END:VCALENDAR
