BEGIN:VCALENDAR
VERSION:2.0
PRODID:-//casakc.org//NONSGML kigkonsult.se iCalcreator 2.30.10//
CALSCALE:GREGORIAN
METHOD:PUBLISH
UID:2024fda8-dd10-4c02-80ce-33798334b212
X-WR-CALDESC:
X-WR-RELCALID:c0dd8055475900836bc7bdcb2bf02514
X-WR-TIMEZONE:America/Chicago
BEGIN:VTIMEZONE
TZID:America/Chicago
BEGIN:STANDARD
TZNAME:CST
DTSTART:20211107T020000
TZOFFSETFROM:-0500
TZOFFSETTO:-0600
RDATE:20221106T020000
END:STANDARD
BEGIN:DAYLIGHT
TZNAME:CDT
DTSTART:20210314T020000
TZOFFSETFROM:-0600
TZOFFSETTO:-0500
RDATE:20220313T020000
RDATE:20230312T020000
END:DAYLIGHT
END:VTIMEZONE
BEGIN:VEVENT
UID:e482b3a9-c7ea-4c81-a39d-5e3eeca60f84
DTSTAMP:20260423T151830Z
DESCRIPTION:
DTSTART;TZID=America/Chicago:20220128T120000
DTEND;TZID=America/Chicago:20220128T130000
LOCATION:
SUMMARY:Board Meeting
END:VEVENT
END:VCALENDAR
