BEGIN:VCALENDAR
VERSION:2.0
PRODID:-//casakc.org//NONSGML kigkonsult.se iCalcreator 2.30.10//
CALSCALE:GREGORIAN
METHOD:PUBLISH
UID:5a39ace4-130b-4739-b683-fc9838b7373f
X-WR-CALDESC:Join us for a 30-minute online no obligation information sessi
 on about what it means to be a CASA volunteer. Attending an information se
 ssion is a prerequisite for attending CASA Volunteer Training.\n\nRegister
  now to receive the Zoom link for this session or email Volunteer Speciali
 st Kara Strickler at kstrickler@jacksoncountycasa-mo.org.
X-WR-RELCALID:745b22cd32671a5bab25064dd7a94f33
X-WR-TIMEZONE:America/Chicago
BEGIN:VTIMEZONE
TZID:America/Chicago
BEGIN:STANDARD
TZNAME:CST
DTSTART:20211107T020000
TZOFFSETFROM:-0500
TZOFFSETTO:-0600
RDATE:20221106T020000
END:STANDARD
BEGIN:DAYLIGHT
TZNAME:CDT
DTSTART:20210314T020000
TZOFFSETFROM:-0600
TZOFFSETTO:-0500
RDATE:20220313T020000
RDATE:20230312T020000
END:DAYLIGHT
END:VTIMEZONE
BEGIN:VEVENT
UID:3b664ea8-c05a-4863-831e-f7450a5dcd75
DTSTAMP:20260423T152623Z
DESCRIPTION:Join us for a 30-minute online no obligation information sessio
 n about what it means to be a CASA volunteer. Attending an information ses
 sion is a prerequisite for attending CASA Volunteer Training.\n\nRegister 
 now to receive the Zoom link for this session or email Volunteer Specialis
 t Kara Strickler at kstrickler@jacksoncountycasa-mo.org.
DTSTART;TZID=America/Chicago:20220131T120000
DTEND;TZID=America/Chicago:20220131T123000
LOCATION:
SUMMARY:Volunteer Info Session
END:VEVENT
END:VCALENDAR
