BEGIN:VCALENDAR
VERSION:2.0
PRODID:-//casakc.org//NONSGML kigkonsult.se iCalcreator 2.30.10//
CALSCALE:GREGORIAN
METHOD:PUBLISH
UID:23fd6447-2981-45cb-9f17-a721b325d96d
X-WR-CALDESC:
X-WR-RELCALID:df639780e4416e703ff2b45439f67b48
X-WR-TIMEZONE:America/Chicago
BEGIN:VTIMEZONE
TZID:America/Chicago
BEGIN:STANDARD
TZNAME:CST
DTSTART:20211107T020000
TZOFFSETFROM:-0500
TZOFFSETTO:-0600
RDATE:20221106T020000
END:STANDARD
BEGIN:DAYLIGHT
TZNAME:CDT
DTSTART:20210314T020000
TZOFFSETFROM:-0600
TZOFFSETTO:-0500
RDATE:20220313T020000
RDATE:20230312T020000
END:DAYLIGHT
END:VTIMEZONE
BEGIN:VEVENT
UID:b1773e37-290a-458a-9ea5-bae13b4b72db
DTSTAMP:20260423T135549Z
DESCRIPTION:
DTSTART;TZID=America/Chicago:20220211T000000
DTEND;TZID=America/Chicago:20220211T235900
LOCATION:
SUMMARY:Lincoln's Birthday CASA Office Closed
END:VEVENT
END:VCALENDAR
