BEGIN:VCALENDAR
VERSION:2.0
PRODID:-//casakc.org//NONSGML kigkonsult.se iCalcreator 2.30.10//
CALSCALE:GREGORIAN
METHOD:PUBLISH
UID:3ebacdf6-1f36-47ff-8545-70a57d7d6d5b
X-WR-CALDESC:Our upcoming Nuts and Bolts Training: Child Development and th
 e Impact of Trauma will be led by Kerry Scott\, the Clinical Manager at Je
 wish Family Services of Greater Kansas City (JFS). A clinical social worke
 r\, Kerry specializes in treating children who've experienced trauma. She 
 is certified in Parent Child Interaction Therapy (PCIT)\, which addresses 
 child behaviors and helps parents to manage behaviors using non-harsh disc
 ipline methods. Kerry is also trained in EMDR\, Trauma-Focused Cognitive B
 ehavioral Therapy\, TheraPlay\, and play-based therapy. \n\nCASA Volunteer
 s who would like to participate can find the Zoom link in the Volunteer Ne
 wsletter or send an email to kstrickler@jacksoncountycasa-mo.org.
X-WR-RELCALID:a7bb57d02676ab7200b2310f6bbfb5e1
X-WR-TIMEZONE:America/Chicago
BEGIN:VTIMEZONE
TZID:America/Chicago
BEGIN:STANDARD
TZNAME:CST
DTSTART:20211107T020000
TZOFFSETFROM:-0500
TZOFFSETTO:-0600
RDATE:20221106T020000
END:STANDARD
BEGIN:DAYLIGHT
TZNAME:CDT
DTSTART:20210314T020000
TZOFFSETFROM:-0600
TZOFFSETTO:-0500
RDATE:20220313T020000
RDATE:20230312T020000
END:DAYLIGHT
END:VTIMEZONE
BEGIN:VEVENT
UID:581dee28-57cb-4aeb-9113-3f3fd3b33482
DTSTAMP:20260423T140211Z
DESCRIPTION:Our upcoming Nuts and Bolts Training: Child Development and the
  Impact of Trauma will be led by Kerry Scott\, the Clinical Manager at Jew
 ish Family Services of Greater Kansas City (JFS). A clinical social worker
 \, Kerry specializes in treating children who've experienced trauma. She i
 s certified in Parent Child Interaction Therapy (PCIT)\, which addresses c
 hild behaviors and helps parents to manage behaviors using non-harsh disci
 pline methods. Kerry is also trained in EMDR\, Trauma-Focused Cognitive Be
 havioral Therapy\, TheraPlay\, and play-based therapy. \n\nCASA Volunteers
  who would like to participate can find the Zoom link in the Volunteer New
 sletter or send an email to kstrickler@jacksoncountycasa-mo.org.
DTSTART;TZID=America/Chicago:20220228T180000
DTEND;TZID=America/Chicago:20220228T193000
LOCATION:
SUMMARY:Nuts & Bolts Training: Child Development & the Impact of Trauma
END:VEVENT
END:VCALENDAR
