BEGIN:VCALENDAR
VERSION:2.0
PRODID:-//casakc.org//NONSGML kigkonsult.se iCalcreator 2.30.10//
CALSCALE:GREGORIAN
METHOD:PUBLISH
UID:533d262d-7c2f-40a1-bdaa-acedc32474bb
X-WR-CALDESC:Join us for a 30-minute online no obligation information sessi
 on about what it means to be a CASA volunteer. Attending an information se
 ssion is a prerequisite for attending CASA Volunteer Training.\n\nRegister
  now to receive the Zoom link for this session or email Volunteer Speciali
 st Kara Strickler at kstrickler@jacksoncountycasa-mo.org.
X-WR-RELCALID:47e5d739c46c05b11804b64738f8d18d
X-WR-TIMEZONE:America/Chicago
BEGIN:VTIMEZONE
TZID:America/Chicago
BEGIN:STANDARD
TZNAME:CST
DTSTART:20211107T020000
TZOFFSETFROM:-0500
TZOFFSETTO:-0600
RDATE:20221106T020000
END:STANDARD
BEGIN:DAYLIGHT
TZNAME:CDT
DTSTART:20220313T020000
TZOFFSETFROM:-0600
TZOFFSETTO:-0500
RDATE:20230312T020000
END:DAYLIGHT
END:VTIMEZONE
BEGIN:VEVENT
UID:93f87960-08f0-4dd8-bdb8-fd694cff359f
DTSTAMP:20260423T122053Z
DESCRIPTION:Join us for a 30-minute online no obligation information sessio
 n about what it means to be a CASA volunteer. Attending an information ses
 sion is a prerequisite for attending CASA Volunteer Training.\n\nRegister 
 now to receive the Zoom link for this session or email Volunteer Specialis
 t Kara Strickler at kstrickler@jacksoncountycasa-mo.org.
DTSTART;TZID=America/Chicago:20220331T120000
DTEND;TZID=America/Chicago:20220331T123000
LOCATION:
SUMMARY:Volunteer Info Session
END:VEVENT
END:VCALENDAR
