BEGIN:VCALENDAR
VERSION:2.0
PRODID:-//casakc.org//NONSGML kigkonsult.se iCalcreator 2.30.10//
CALSCALE:GREGORIAN
METHOD:PUBLISH
UID:db39a508-0e64-4dd6-bf07-6808b9ceaf9e
X-WR-CALDESC:
X-WR-RELCALID:de2dbc428c858965b4f493fa31a3729d
X-WR-TIMEZONE:America/Chicago
BEGIN:VTIMEZONE
TZID:America/Chicago
BEGIN:STANDARD
TZNAME:CST
DTSTART:20211107T020000
TZOFFSETFROM:-0500
TZOFFSETTO:-0600
RDATE:20221106T020000
END:STANDARD
BEGIN:DAYLIGHT
TZNAME:CDT
DTSTART:20220313T020000
TZOFFSETFROM:-0600
TZOFFSETTO:-0500
RDATE:20230312T020000
END:DAYLIGHT
END:VTIMEZONE
BEGIN:VEVENT
UID:34c27a2b-c1c7-4d05-98a5-37019a20be87
DTSTAMP:20260423T104955Z
DESCRIPTION:
DTSTART;TZID=America/Chicago:20220406T120000
DTEND;TZID=America/Chicago:20220406T133000
LOCATION:
SUMMARY:Nuts & Bolts Training: Child Visits & Relationship Building
END:VEVENT
END:VCALENDAR
