BEGIN:VCALENDAR
VERSION:2.0
PRODID:-//casakc.org//NONSGML kigkonsult.se iCalcreator 2.30.10//
CALSCALE:GREGORIAN
METHOD:PUBLISH
UID:4b78685f-41d7-48fc-8192-47804644e25d
X-WR-CALDESC:Join Jackson County CASA for a Diversity\, Equity\, and Inclus
 ion Lunch presented by Angela Gomez and Trish Meyer from the Missouri Depa
 rtment of Mental Health-Division of Developmental Disabilities. Angela Gom
 ez is the Intake and Assessment Supervisor. She brings her knowledge and p
 assion of working with individuals with developmental disabilities for mor
 e than 24 years with the Department. Trish Meyer\, brings 8 years of profe
 ssional experience in supporting individuals with developmental disabiliti
 es in her current role with the Department. She has a wealth of knowledge 
 regarding federal and state criteria for eligibility for the MO Dept. of M
 ental Health-Division of Developmental Disabilities. \n\nDuring this prese
 ntation\, CASA Volunteers and staff will learn about the eligibility proce
 ss and an overview of their targeted case management and potential service
 s. Email lmartin@jacksoncountycasa-mo.org for the Zoom link.
X-WR-RELCALID:57be4b270fa6549b50b4b0ad9cf1b0b0
X-WR-TIMEZONE:America/Chicago
BEGIN:VTIMEZONE
TZID:America/Chicago
BEGIN:STANDARD
TZNAME:CST
DTSTART:20211107T020000
TZOFFSETFROM:-0500
TZOFFSETTO:-0600
RDATE:20221106T020000
END:STANDARD
BEGIN:DAYLIGHT
TZNAME:CDT
DTSTART:20220313T020000
TZOFFSETFROM:-0600
TZOFFSETTO:-0500
RDATE:20230312T020000
END:DAYLIGHT
END:VTIMEZONE
BEGIN:VEVENT
UID:93c51592-c47b-45f3-ae3e-ce8cdb5f6876
DTSTAMP:20260423T105242Z
DESCRIPTION:Join Jackson County CASA for a Diversity\, Equity\, and Inclusi
 on Lunch presented by Angela Gomez and Trish Meyer from the Missouri Depar
 tment of Mental Health-Division of Developmental Disabilities. Angela Gome
 z is the Intake and Assessment Supervisor. She brings her knowledge and pa
 ssion of working with individuals with developmental disabilities for more
  than 24 years with the Department. Trish Meyer\, brings 8 years of profes
 sional experience in supporting individuals with developmental disabilitie
 s in her current role with the Department. She has a wealth of knowledge r
 egarding federal and state criteria for eligibility for the MO Dept. of Me
 ntal Health-Division of Developmental Disabilities. \n\nDuring this presen
 tation\, CASA Volunteers and staff will learn about the eligibility proces
 s and an overview of their targeted case management and potential services
 . Email lmartin@jacksoncountycasa-mo.org for the Zoom link.
DTSTART;TZID=America/Chicago:20220411T120000
DTEND;TZID=America/Chicago:20220411T130000
LOCATION:
SUMMARY:Diversity\, Equity\, and Inclusion Lunch: MO Department of Mental H
 ealth-Division of Developmental Disabilities
END:VEVENT
END:VCALENDAR
