BEGIN:VCALENDAR
VERSION:2.0
PRODID:-//casakc.org//NONSGML kigkonsult.se iCalcreator 2.30.10//
CALSCALE:GREGORIAN
METHOD:PUBLISH
UID:160b1e2e-c2b5-4c18-94fa-40516c48815d
X-WR-CALDESC:CLE: Missouri 8.0 hours includes 1.0 ethics and 2.0 eliminatio
 n of bias\nKansas credit pending\n\nCost: $175 attorney\n\nFree to attorne
 ys who commit to one pro-bono CASA GAL case or non-attorney CASA volunteer
 \nThis program satisfies both the 8-hour and 3-hour CLE requirements of St
 andard 14.0 of the Missouri Supreme Court’s Standards for Guardians ad Lit
 em.\n\n8:00 a.m. Webcast Access\n\n8:30 a.m. - 4:40 p.m. Webinar\n\nSpeake
 rs will discuss:\n\n-Missouri Supreme Court GAL Standards\n\n-Child Welfar
 e Legal Framework\n\n-Timeline of a Family Court Case and Permanency Optio
 ns\n\n-The Effects of Trauma on children and Families\n\n-How to Engage wi
 th Children as the GAL\n\n-Ethics\, Diversity\, Elimination of Bias\, Incl
 usion and Best Interest\n\nCost:  $175 attorneys\n\nFree for attorneys who
  commit to one pro-bono CASA GAL case and non-attorney CASA volunteers
X-WR-RELCALID:9347ca1defef7d57e5e32ec35e98a4ac
X-WR-TIMEZONE:America/Chicago
BEGIN:VTIMEZONE
TZID:America/Chicago
BEGIN:STANDARD
TZNAME:CST
DTSTART:20211107T020000
TZOFFSETFROM:-0500
TZOFFSETTO:-0600
RDATE:20221106T020000
RDATE:20231105T020000
END:STANDARD
BEGIN:DAYLIGHT
TZNAME:CDT
DTSTART:20220313T020000
TZOFFSETFROM:-0600
TZOFFSETTO:-0500
RDATE:20230312T020000
END:DAYLIGHT
END:VTIMEZONE
BEGIN:VEVENT
UID:4c50380f-2c63-44c5-bf85-0a92b63df840
DTSTAMP:20260423T091403Z
DESCRIPTION:CLE: Missouri 8.0 hours includes 1.0 ethics and 2.0 elimination
  of bias\nKansas credit pending\n\nCost: $175 attorney\n\nFree to attorney
 s who commit to one pro-bono CASA GAL case or non-attorney CASA volunteer
 \nThis program satisfies both the 8-hour and 3-hour CLE requirements of St
 andard 14.0 of the Missouri Supreme Court’s Standards for Guardians ad Lit
 em.\n\n8:00 a.m. Webcast Access\n\n8:30 a.m. - 4:40 p.m. Webinar\n\nSpeake
 rs will discuss:\n\n-Missouri Supreme Court GAL Standards\n\n-Child Welfar
 e Legal Framework\n\n-Timeline of a Family Court Case and Permanency Optio
 ns\n\n-The Effects of Trauma on children and Families\n\n-How to Engage wi
 th Children as the GAL\n\n-Ethics\, Diversity\, Elimination of Bias\, Incl
 usion and Best Interest\n\nCost:  $175 attorneys\n\nFree for attorneys who
  commit to one pro-bono CASA GAL case and non-attorney CASA volunteers
DTSTART;TZID=America/Chicago:20220507T083000
DTEND;TZID=America/Chicago:20220507T164000
LOCATION:Online Event\, Link available with Registration
SUMMARY:Guardian ad Litem Basics
END:VEVENT
END:VCALENDAR
