BEGIN:VCALENDAR
VERSION:2.0
PRODID:-//casakc.org//NONSGML kigkonsult.se iCalcreator 2.30.10//
CALSCALE:GREGORIAN
METHOD:PUBLISH
UID:d3b8c8e9-55f2-4b8e-b184-f4e85af812df
X-WR-CALDESC:To celebrate the great work that our volunteers do\, we are ho
 sting a Volunteer Appreciation Happy Hour! Come mingle with CASA Volunteer
 s and staff on Thursday\, May 12\, from 4:30-6:30 p.m. at Cliff's Taphouse
  (3044 Gillham Road\, Kansas City\, MO). Appetizers and soft drinks will b
 e provided\, and guests can purchase their own beverage of choice from the
  wide selection at the Taphouse. Volunteers will also have the opportunity
  to pick up a volunteer appreciation gift from Jackson County CASA. We loo
 k forward to seeing you there!
X-WR-RELCALID:74dd7e9f69ad2bfa6c954f62b216cdfb
X-WR-TIMEZONE:America/Chicago
BEGIN:VTIMEZONE
TZID:America/Chicago
BEGIN:STANDARD
TZNAME:CST
DTSTART:20211107T020000
TZOFFSETFROM:-0500
TZOFFSETTO:-0600
RDATE:20221106T020000
RDATE:20231105T020000
END:STANDARD
BEGIN:DAYLIGHT
TZNAME:CDT
DTSTART:20220313T020000
TZOFFSETFROM:-0600
TZOFFSETTO:-0500
RDATE:20230312T020000
END:DAYLIGHT
END:VTIMEZONE
BEGIN:VEVENT
UID:229c317e-8c9f-48f5-af63-683141e33e54
DTSTAMP:20260423T091214Z
DESCRIPTION:To celebrate the great work that our volunteers do\, we are hos
 ting a Volunteer Appreciation Happy Hour! Come mingle with CASA Volunteers
  and staff on Thursday\, May 12\, from 4:30-6:30 p.m. at Cliff's Taphouse 
 (3044 Gillham Road\, Kansas City\, MO). Appetizers and soft drinks will be
  provided\, and guests can purchase their own beverage of choice from the 
 wide selection at the Taphouse. Volunteers will also have the opportunity 
 to pick up a volunteer appreciation gift from Jackson County CASA. We look
  forward to seeing you there!
DTSTART;TZID=America/Chicago:20220512T163000
DTEND;TZID=America/Chicago:20220512T183000
LOCATION:
SUMMARY:Volunteer Happy Hour
END:VEVENT
END:VCALENDAR
