BEGIN:VCALENDAR
VERSION:2.0
PRODID:-//casakc.org//NONSGML kigkonsult.se iCalcreator 2.30.10//
CALSCALE:GREGORIAN
METHOD:PUBLISH
UID:28c2607d-73d4-4ae7-ad4f-39db49cd8b6c
X-WR-CALDESC:Shop for stylish Kendra Scott jewelry and accessories while yo
 u enjoy a sparkling beverage and delicious treats at this fundraising even
 t for Jackson County CASA.  Kendra Scott will give back 20% of the sales a
 t the event to support Jackson County CASA's mission of providing trained 
 advocates for children who have experienced abuse or neglect.   Can't make
  it in person?  Shop online with the code GIVEBACK-CABCS on May 19th & May
  20th and Kendra Scott will donate 20% of your purchase to Jackson County 
 CASA.
X-WR-RELCALID:7292d23d306e13d69c7af10becb477eb
X-WR-TIMEZONE:America/Chicago
BEGIN:VTIMEZONE
TZID:America/Chicago
BEGIN:STANDARD
TZNAME:CST
DTSTART:20211107T020000
TZOFFSETFROM:-0500
TZOFFSETTO:-0600
RDATE:20221106T020000
RDATE:20231105T020000
END:STANDARD
BEGIN:DAYLIGHT
TZNAME:CDT
DTSTART:20220313T020000
TZOFFSETFROM:-0600
TZOFFSETTO:-0500
RDATE:20230312T020000
END:DAYLIGHT
END:VTIMEZONE
BEGIN:VEVENT
UID:fd7b0526-c26b-44ed-bf50-ca197ee2f42f
DTSTAMP:20260423T091327Z
DESCRIPTION:Shop for stylish Kendra Scott jewelry and accessories while you
  enjoy a sparkling beverage and delicious treats at this fundraising event
  for Jackson County CASA.  Kendra Scott will give back 20% of the sales at
  the event to support Jackson County CASA's mission of providing trained a
 dvocates for children who have experienced abuse or neglect.   Can't make 
 it in person?  Shop online with the code GIVEBACK-CABCS on May 19th & May 
 20th and Kendra Scott will donate 20% of your purchase to Jackson County C
 ASA.
DTSTART;TZID=America/Chicago:20220519T150000
DTEND;TZID=America/Chicago:20220519T180000
LOCATION:412 Nichols Road\, Kansas City\, MO 64112 US
SUMMARY:Kendra Scott Gives Back
END:VEVENT
END:VCALENDAR
