BEGIN:VCALENDAR
VERSION:2.0
PRODID:-//casakc.org//NONSGML kigkonsult.se iCalcreator 2.30.10//
CALSCALE:GREGORIAN
METHOD:PUBLISH
UID:8f641c14-8709-44a3-a41f-f78935b3541b
X-WR-CALDESC:What are the requirements for kinship/relative foster placemen
 ts to get licensed? What is the compensation for fostering and how does th
 at differ depending on the level of care? What are some of the challenges 
 of career foster homes? Join Jackson County CASA for a continuing educatio
 n training focused on foster care licensing on Thursday\, May 26\, from 5:
 30-6:30 p.m. Susanne Turner from Cornerstones of Care will answer all the 
 above questions and more. We hope to see you there!\n\nEmail Volunteer Man
 ager\, Lisa Martin\, at lmartin@jacksoncountycasa-mo.org for the Zoom link
  to attend.
X-WR-RELCALID:3e45462590639b8c63d45cf77d18e729
X-WR-TIMEZONE:America/Chicago
BEGIN:VTIMEZONE
TZID:America/Chicago
BEGIN:STANDARD
TZNAME:CST
DTSTART:20211107T020000
TZOFFSETFROM:-0500
TZOFFSETTO:-0600
RDATE:20221106T020000
RDATE:20231105T020000
END:STANDARD
BEGIN:DAYLIGHT
TZNAME:CDT
DTSTART:20220313T020000
TZOFFSETFROM:-0600
TZOFFSETTO:-0500
RDATE:20230312T020000
END:DAYLIGHT
END:VTIMEZONE
BEGIN:VEVENT
UID:f50aadba-7f30-4f98-b0d8-bbc09ac01e87
DTSTAMP:20260423T091214Z
DESCRIPTION:What are the requirements for kinship/relative foster placement
 s to get licensed? What is the compensation for fostering and how does tha
 t differ depending on the level of care? What are some of the challenges o
 f career foster homes? Join Jackson County CASA for a continuing education
  training focused on foster care licensing on Thursday\, May 26\, from 5:3
 0-6:30 p.m. Susanne Turner from Cornerstones of Care will answer all the a
 bove questions and more. We hope to see you there!\n\nEmail Volunteer Mana
 ger\, Lisa Martin\, at lmartin@jacksoncountycasa-mo.org for the Zoom link 
 to attend.
DTSTART;TZID=America/Chicago:20220526T173000
DTEND;TZID=America/Chicago:20220526T183000
LOCATION:
SUMMARY:Continuing Education: Foster Care Licensing
END:VEVENT
END:VCALENDAR
