BEGIN:VCALENDAR
VERSION:2.0
PRODID:-//casakc.org//NONSGML kigkonsult.se iCalcreator 2.30.10//
CALSCALE:GREGORIAN
METHOD:PUBLISH
UID:346cde68-727b-4279-b1e2-4daf99788702
X-WR-CALDESC:
X-WR-RELCALID:c5c2d89c1c5e9bc4e6f4cfc23521d0c4
X-WR-TIMEZONE:America/Chicago
BEGIN:VTIMEZONE
TZID:America/Chicago
BEGIN:STANDARD
TZNAME:CST
DTSTART:20211107T020000
TZOFFSETFROM:-0500
TZOFFSETTO:-0600
RDATE:20221106T020000
RDATE:20231105T020000
END:STANDARD
BEGIN:DAYLIGHT
TZNAME:CDT
DTSTART:20220313T020000
TZOFFSETFROM:-0600
TZOFFSETTO:-0500
RDATE:20230312T020000
END:DAYLIGHT
END:VTIMEZONE
BEGIN:VEVENT
UID:81abcf9c-ab4a-4328-b902-ccd908c13c59
DTSTAMP:20260423T090930Z
DESCRIPTION:
DTSTART;TZID=America/Chicago:20220527T120000
DTEND;TZID=America/Chicago:20220527T130000
LOCATION:
SUMMARY:Board Meeting
END:VEVENT
END:VCALENDAR
