BEGIN:VCALENDAR
VERSION:2.0
PRODID:-//casakc.org//NONSGML kigkonsult.se iCalcreator 2.30.10//
CALSCALE:GREGORIAN
METHOD:PUBLISH
UID:0d776a6a-c062-4b7f-87f0-b05e37710ee1
X-WR-CALDESC:Join us for the 17t Annual Carnival for CASA at Faulkner's Ran
 ch!  Kids can enjoy fun and games\, see farm animals\, eat sweet treats an
 d win prizes at this benefit for Jackson County CASA.  Corporate sponsorsh
 ips are available.  For a donation of $30\, you can make sure a child serv
 ed by CASA can attend at no charge!
X-WR-RELCALID:e00c4f20f14246ae34f2439a629a0619
X-WR-TIMEZONE:America/Chicago
BEGIN:VTIMEZONE
TZID:America/Chicago
BEGIN:STANDARD
TZNAME:CST
DTSTART:20211107T020000
TZOFFSETFROM:-0500
TZOFFSETTO:-0600
RDATE:20221106T020000
RDATE:20231105T020000
END:STANDARD
BEGIN:DAYLIGHT
TZNAME:CDT
DTSTART:20220313T020000
TZOFFSETFROM:-0600
TZOFFSETTO:-0500
RDATE:20230312T020000
END:DAYLIGHT
END:VTIMEZONE
BEGIN:VEVENT
UID:11e3e948-0c21-4cd2-a3fb-0b9aa55e53c7
DTSTAMP:20260423T074848Z
DESCRIPTION:Join us for the 17t Annual Carnival for CASA at Faulkner's Ranc
 h!  Kids can enjoy fun and games\, see farm animals\, eat sweet treats and
  win prizes at this benefit for Jackson County CASA.  Corporate sponsorshi
 ps are available.  For a donation of $30\, you can make sure a child serve
 d by CASA can attend at no charge!
DTSTART;TZID=America/Chicago:20220612T130000
DTEND;TZID=America/Chicago:20220612T160000
LOCATION:10600 Raytown Rd\, 1021 NE Colburn Rd\, Kansas City\, MO 64134 US
SUMMARY:Carnival for CASA at Faulkner's Ranch
END:VEVENT
END:VCALENDAR
