BEGIN:VCALENDAR
VERSION:2.0
PRODID:-//casakc.org//NONSGML kigkonsult.se iCalcreator 2.30.10//
CALSCALE:GREGORIAN
METHOD:PUBLISH
UID:70c89274-969b-4867-860b-e426f498d400
X-WR-CALDESC:
X-WR-RELCALID:27cb46beb72c284def55262ea76ac10e
X-WR-TIMEZONE:America/Chicago
BEGIN:VTIMEZONE
TZID:America/Chicago
BEGIN:STANDARD
TZNAME:CST
DTSTART:20211107T020000
TZOFFSETFROM:-0500
TZOFFSETTO:-0600
RDATE:20221106T020000
RDATE:20231105T020000
END:STANDARD
BEGIN:DAYLIGHT
TZNAME:CDT
DTSTART:20220313T020000
TZOFFSETFROM:-0600
TZOFFSETTO:-0500
RDATE:20230312T020000
END:DAYLIGHT
END:VTIMEZONE
BEGIN:VEVENT
UID:40a392e0-a125-4bcd-ae66-de5b58ab5cc7
DTSTAMP:20260423T074623Z
DESCRIPTION:
DTSTART;TZID=America/Chicago:20220624T120000
DTEND;TZID=America/Chicago:20220624T130000
LOCATION:
SUMMARY:Board Meeting
END:VEVENT
END:VCALENDAR
